Package: ResidualMatrix Version: 1.14.1 Command: /Library/Frameworks/R.framework/Resources/bin/R CMD build --keep-empty-dirs --no-resave-data ResidualMatrix StartedAt: 2024-10-17 07:28:40 -0400 (Thu, 17 Oct 2024) EndedAt: 2024-10-17 07:29:22 -0400 (Thu, 17 Oct 2024) EllapsedTime: 42.1 seconds RetCode: 0 Status: OK PackageFile: ResidualMatrix_1.14.1.tar.gz PackageFileSize: 334.3 KiB