Package: ResidualMatrix Version: 1.14.1 Maintainer: Aaron Lun MaintainerEmail: infinite.monkeys.with.keyboards at gmail.com git_url: https://git.bioconductor.org/packages/ResidualMatrix git_branch: RELEASE_3_19 git_last_commit: 9967e06 git_last_commit_date: 2024-06-21 13:27:25 -0400 (Fri, 21 Jun 2024)