Package: ReportingTools Version: 2.44.0 Command: chmod a+r ReportingTools -R && F:\biocbuild\bbs-3.19-bioc\R\bin\R.exe CMD build --keep-empty-dirs --no-resave-data ReportingTools StartedAt: 2024-06-26 21:20:53 -0400 (Wed, 26 Jun 2024) EndedAt: 2024-06-26 21:22:38 -0400 (Wed, 26 Jun 2024) EllapsedTime: 104.4 seconds RetCode: 0 Status: OK PackageFile: ReportingTools_2.44.0.tar.gz PackageFileSize: 1.79 MiB