Package: ReportingTools Version: 2.44.0 Command: rm -rf ReportingTools.buildbin-libdir && mkdir ReportingTools.buildbin-libdir && F:\biocbuild\bbs-3.19-bioc\R\bin\R.exe CMD INSTALL --build --library=ReportingTools.buildbin-libdir ReportingTools_2.44.0.tar.gz StartedAt: 2024-06-27 08:46:19 -0400 (Thu, 27 Jun 2024) EndedAt: 2024-06-27 08:47:50 -0400 (Thu, 27 Jun 2024) EllapsedTime: 91.4 seconds RetCode: 0 Status: OK PackageFile: ReportingTools_2.44.0.zip PackageFileSize: 1.835 MiB