Package: ReportingTools Version: 2.44.0 Command: /home/biocbuild/bbs-3.19-bioc/R/bin/R CMD build --keep-empty-dirs --no-resave-data ReportingTools StartedAt: 2024-10-16 20:24:12 -0400 (Wed, 16 Oct 2024) EndedAt: 2024-10-16 20:25:19 -0400 (Wed, 16 Oct 2024) EllapsedTime: 67.1 seconds RetCode: 0 Status: OK PackageFile: ReportingTools_2.44.0.tar.gz PackageFileSize: 1.787 MiB