Package: ReportingTools Version: 2.44.0 Command: /home/biocbuild/R/R-beta-2024-04-15_r86425/bin/R CMD check --install=check:ReportingTools.install-out.txt --library=/home/biocbuild/R/R-beta-2024-04-15_r86425/site-library --no-vignettes --timings ReportingTools_2.44.0.tar.gz StartedAt: 2024-05-09 11:06:49 -0000 (Thu, 09 May 2024) EndedAt: 2024-05-09 11:20:58 -0000 (Thu, 09 May 2024) EllapsedTime: 848.6 seconds RetCode: 0 Status: OK CheckDir: ReportingTools.Rcheck Warnings: 0