Package: ReportingTools Version: 2.44.0 Command: /home/biocbuild/R/R-beta-2024-04-15_r86425/bin/R CMD build --keep-empty-dirs --no-resave-data ReportingTools StartedAt: 2024-05-09 02:56:51 -0000 (Thu, 09 May 2024) EndedAt: 2024-05-09 02:58:19 -0000 (Thu, 09 May 2024) EllapsedTime: 88.1 seconds RetCode: 0 Status: OK PackageFile: ReportingTools_2.44.0.tar.gz PackageFileSize: 1.775 MiB