Package: ReportingTools Version: 2.44.0 Command: /Library/Frameworks/R.framework/Resources/bin/R CMD build --keep-empty-dirs --no-resave-data ReportingTools StartedAt: 2024-06-10 03:20:09 -0400 (Mon, 10 Jun 2024) EndedAt: 2024-06-10 03:22:19 -0400 (Mon, 10 Jun 2024) EllapsedTime: 130.4 seconds RetCode: 0 Status: OK PackageFile: ReportingTools_2.44.0.tar.gz PackageFileSize: 1.786 MiB