Package: ReportingTools Version: 2.44.0 Command: /Library/Frameworks/R.framework/Resources/bin/R CMD check --install=check:ReportingTools.install-out.txt --library=/Library/Frameworks/R.framework/Resources/library --no-vignettes --timings ReportingTools_2.44.0.tar.gz StartedAt: 2024-10-18 09:17:25 -0400 (Fri, 18 Oct 2024) EndedAt: 2024-10-18 09:30:09 -0400 (Fri, 18 Oct 2024) EllapsedTime: 764.2 seconds RetCode: 0 Status: OK CheckDir: ReportingTools.Rcheck Warnings: 0