Package: ReportingTools Version: 2.44.0 Command: rm -rf ReportingTools.buildbin-libdir && mkdir ReportingTools.buildbin-libdir && /Users/biocbuild/BBS/utils/build-universal.sh ReportingTools_2.44.0.tar.gz /Library/Frameworks/R.framework/Resources/bin/R ReportingTools.buildbin-libdir StartedAt: 2024-10-18 20:13:57 -0400 (Fri, 18 Oct 2024) EndedAt: 2024-10-18 20:15:24 -0400 (Fri, 18 Oct 2024) EllapsedTime: 87.5 seconds RetCode: 0 Status: OK PackageFile: ReportingTools_2.44.0.tgz PackageFileSize: 1.813 MiB