Package: Repitools Version: 1.50.0 Command: rm -rf Repitools.buildbin-libdir && mkdir Repitools.buildbin-libdir && E:\biocbuild\bbs-3.19-bioc\R\bin\R.exe CMD INSTALL --build --library=Repitools.buildbin-libdir Repitools_1.50.0.tar.gz StartedAt: 2024-10-17 08:28:15 -0400 (Thu, 17 Oct 2024) EndedAt: 2024-10-17 08:29:55 -0400 (Thu, 17 Oct 2024) EllapsedTime: 100.1 seconds RetCode: 0 Status: OK PackageFile: Repitools_1.50.0.zip PackageFileSize: 2.385 MiB