Package: Repitools Version: 1.50.0 Command: /home/biocbuild/bbs-3.19-bioc/R/bin/R CMD check --install=check:Repitools.install-out.txt --library=/home/biocbuild/bbs-3.19-bioc/R/site-library --timings Repitools_1.50.0.tar.gz StartedAt: 2024-10-17 04:16:55 -0400 (Thu, 17 Oct 2024) EndedAt: 2024-10-17 04:24:02 -0400 (Thu, 17 Oct 2024) EllapsedTime: 427.1 seconds RetCode: 0 Status: WARNINGS CheckDir: Repitools.Rcheck Warnings: 1