Package: Repitools Version: 1.50.0 Command: /Library/Frameworks/R.framework/Resources/bin/R CMD build --keep-empty-dirs --no-resave-data Repitools StartedAt: 2024-10-16 22:31:00 -0400 (Wed, 16 Oct 2024) EndedAt: 2024-10-16 22:33:21 -0400 (Wed, 16 Oct 2024) EllapsedTime: 141.6 seconds RetCode: 0 Status: OK PackageFile: Repitools_1.50.0.tar.gz PackageFileSize: 1.686 MiB