Package: Repitools Version: 1.50.0 Command: /Library/Frameworks/R.framework/Resources/bin/R CMD INSTALL Repitools StartedAt: 2024-06-09 15:23:56 -0400 (Sun, 09 Jun 2024) EndedAt: 2024-06-09 15:24:49 -0400 (Sun, 09 Jun 2024) EllapsedTime: 52.8 seconds RetCode: 0 Status: OK