Package: RepViz Version: 1.20.0 Command: rm -rf RepViz.buildbin-libdir && mkdir RepViz.buildbin-libdir && F:\biocbuild\bbs-3.19-bioc\R\bin\R.exe CMD INSTALL --build --library=RepViz.buildbin-libdir RepViz_1.20.0.tar.gz StartedAt: 2024-06-27 08:46:21 -0400 (Thu, 27 Jun 2024) EndedAt: 2024-06-27 08:46:45 -0400 (Thu, 27 Jun 2024) EllapsedTime: 23.8 seconds RetCode: 0 Status: OK PackageFile: RepViz_1.20.0.zip PackageFileSize: 232.8 KiB