Package: RepViz Version: 1.20.0 Command: /home/biocbuild/R/R-beta-2024-04-15_r86425/bin/R CMD check --install=check:RepViz.install-out.txt --library=/home/biocbuild/R/R-beta-2024-04-15_r86425/site-library --no-vignettes --timings RepViz_1.20.0.tar.gz StartedAt: 2024-05-09 11:06:57 -0000 (Thu, 09 May 2024) EndedAt: 2024-05-09 11:09:32 -0000 (Thu, 09 May 2024) EllapsedTime: 154.3 seconds RetCode: 0 Status: WARNINGS CheckDir: RepViz.Rcheck Warnings: 3