Package: RegionalST Version: 1.2.0 Command: rm -rf RegionalST.buildbin-libdir && mkdir RegionalST.buildbin-libdir && E:\biocbuild\bbs-3.19-bioc\R\bin\R.exe CMD INSTALL --build --library=RegionalST.buildbin-libdir RegionalST_1.2.0.tar.gz StartedAt: 2024-10-17 08:28:00 -0400 (Thu, 17 Oct 2024) EndedAt: 2024-10-17 08:28:42 -0400 (Thu, 17 Oct 2024) EllapsedTime: 42.9 seconds RetCode: 0 Status: OK PackageFile: RegionalST_1.2.0.zip PackageFileSize: 1.714 MiB