Package: RegionalST Version: 1.2.0 Command: /home/biocbuild/bbs-3.19-bioc/R/bin/R CMD check --install=check:RegionalST.install-out.txt --library=/home/biocbuild/bbs-3.19-bioc/R/site-library --timings RegionalST_1.2.0.tar.gz StartedAt: 2024-10-17 04:15:09 -0400 (Thu, 17 Oct 2024) EndedAt: 2024-10-17 04:20:34 -0400 (Thu, 17 Oct 2024) EllapsedTime: 324.6 seconds RetCode: 0 Status: OK CheckDir: RegionalST.Rcheck Warnings: 0