Package: RegionalST Version: 1.2.0 Command: /Library/Frameworks/R.framework/Resources/bin/R CMD INSTALL RegionalST StartedAt: 2024-10-16 16:53:10 -0400 (Wed, 16 Oct 2024) EndedAt: 2024-10-16 16:54:09 -0400 (Wed, 16 Oct 2024) EllapsedTime: 59.2 seconds RetCode: 0 Status: OK