Package: RegionalST Version: 1.2.0 Command: /Library/Frameworks/R.framework/Resources/bin/R CMD build --keep-empty-dirs --no-resave-data RegionalST StartedAt: 2024-10-16 22:29:24 -0400 (Wed, 16 Oct 2024) EndedAt: 2024-10-16 22:34:10 -0400 (Wed, 16 Oct 2024) EllapsedTime: 285.8 seconds RetCode: 0 Status: OK PackageFile: RegionalST_1.2.0.tar.gz PackageFileSize: 3.577 MiB