Package: RegEnrich Version: 1.14.0 Command: chmod a+r RegEnrich -R && E:\biocbuild\bbs-3.19-bioc\R\bin\R.exe CMD build --keep-empty-dirs --no-resave-data RegEnrich StartedAt: 2024-10-16 21:26:54 -0400 (Wed, 16 Oct 2024) EndedAt: 2024-10-16 21:33:07 -0400 (Wed, 16 Oct 2024) EllapsedTime: 373.0 seconds RetCode: 0 Status: OK PackageFile: RegEnrich_1.14.0.tar.gz PackageFileSize: 1.137 MiB