Package: RegEnrich Version: 1.14.0 Command: rm -rf RegEnrich.buildbin-libdir && mkdir RegEnrich.buildbin-libdir && E:\biocbuild\bbs-3.19-bioc\R\bin\R.exe CMD INSTALL --build --library=RegEnrich.buildbin-libdir RegEnrich_1.14.0.tar.gz StartedAt: 2024-10-17 08:27:52 -0400 (Thu, 17 Oct 2024) EndedAt: 2024-10-17 08:28:58 -0400 (Thu, 17 Oct 2024) EllapsedTime: 66.2 seconds RetCode: 0 Status: OK PackageFile: RegEnrich_1.14.0.zip PackageFileSize: 1.593 MiB