Package: RegEnrich Version: 1.14.0 Command: /home/biocbuild/bbs-3.19-bioc/R/bin/R CMD build --keep-empty-dirs --no-resave-data RegEnrich StartedAt: 2024-10-16 20:22:40 -0400 (Wed, 16 Oct 2024) EndedAt: 2024-10-16 20:27:17 -0400 (Wed, 16 Oct 2024) EllapsedTime: 277.5 seconds RetCode: 0 Status: OK PackageFile: RegEnrich_1.14.0.tar.gz PackageFileSize: 1.136 MiB