Package: RegEnrich Version: 1.14.0 Command: /Library/Frameworks/R.framework/Resources/bin/R CMD build --keep-empty-dirs --no-resave-data RegEnrich StartedAt: 2024-10-16 22:29:21 -0400 (Wed, 16 Oct 2024) EndedAt: 2024-10-16 22:38:22 -0400 (Wed, 16 Oct 2024) EllapsedTime: 540.5 seconds RetCode: 0 Status: OK PackageFile: RegEnrich_1.14.0.tar.gz PackageFileSize: 1.136 MiB