Package: RegEnrich Version: 1.14.0 Command: /Library/Frameworks/R.framework/Resources/bin/R CMD INSTALL RegEnrich StartedAt: 2024-06-09 15:32:02 -0400 (Sun, 09 Jun 2024) EndedAt: 2024-06-09 15:32:49 -0400 (Sun, 09 Jun 2024) EllapsedTime: 47.5 seconds RetCode: 0 Status: OK