Package: RegEnrich Version: 1.14.0 Command: /Library/Frameworks/R.framework/Resources/bin/R CMD build --keep-empty-dirs --no-resave-data RegEnrich StartedAt: 2024-06-10 03:16:41 -0400 (Mon, 10 Jun 2024) EndedAt: 2024-06-10 03:23:28 -0400 (Mon, 10 Jun 2024) EllapsedTime: 407.7 seconds RetCode: 0 Status: OK PackageFile: RegEnrich_1.14.0.tar.gz PackageFileSize: 1.136 MiB