Package: RegEnrich Version: 1.14.0 Command: /Library/Frameworks/R.framework/Resources/bin/R CMD check --install=check:RegEnrich.install-out.txt --library=/Library/Frameworks/R.framework/Resources/library --no-vignettes --timings RegEnrich_1.14.0.tar.gz StartedAt: 2024-10-18 09:03:57 -0400 (Fri, 18 Oct 2024) EndedAt: 2024-10-18 09:09:33 -0400 (Fri, 18 Oct 2024) EllapsedTime: 335.9 seconds RetCode: 0 Status: OK CheckDir: RegEnrich.Rcheck Warnings: 0