Package: RegEnrich Version: 1.14.0 Command: rm -rf RegEnrich.buildbin-libdir && mkdir RegEnrich.buildbin-libdir && /Users/biocbuild/BBS/utils/build-universal.sh RegEnrich_1.14.0.tar.gz /Library/Frameworks/R.framework/Resources/bin/R RegEnrich.buildbin-libdir StartedAt: 2024-10-18 20:12:21 -0400 (Fri, 18 Oct 2024) EndedAt: 2024-10-18 20:13:16 -0400 (Fri, 18 Oct 2024) EllapsedTime: 54.3 seconds RetCode: 0 Status: OK PackageFile: RegEnrich_1.14.0.tgz PackageFileSize: 1.588 MiB