Package: RefPlus Version: 1.74.0 Command: F:\biocbuild\bbs-3.19-bioc\R\bin\R.exe CMD check --no-multiarch --install=check:RefPlus.install-out.txt --library=F:\biocbuild\bbs-3.19-bioc\R\library --no-vignettes --timings RefPlus_1.74.0.tar.gz StartedAt: 2024-06-27 05:14:43 -0400 (Thu, 27 Jun 2024) EndedAt: 2024-06-27 05:16:12 -0400 (Thu, 27 Jun 2024) EllapsedTime: 88.3 seconds RetCode: 0 Status: OK CheckDir: RefPlus.Rcheck Warnings: 0