Package: RefPlus Version: 1.74.0 Command: chmod a+r RefPlus -R && F:\biocbuild\bbs-3.19-bioc\R\bin\R.exe CMD build --keep-empty-dirs --no-resave-data RefPlus StartedAt: 2024-06-26 21:19:40 -0400 (Wed, 26 Jun 2024) EndedAt: 2024-06-26 21:20:21 -0400 (Wed, 26 Jun 2024) EllapsedTime: 41.4 seconds RetCode: 0 Status: OK PackageFile: RefPlus_1.74.0.tar.gz PackageFileSize: 1.356 MiB