Package: RefPlus Version: 1.74.0 Command: rm -rf RefPlus.buildbin-libdir && mkdir RefPlus.buildbin-libdir && /Users/biocbuild/BBS/utils/build-universal.sh RefPlus_1.74.0.tar.gz /Library/Frameworks/R.framework/Resources/bin/R RefPlus.buildbin-libdir StartedAt: 2024-10-17 16:57:39 -0400 (Thu, 17 Oct 2024) EndedAt: 2024-10-17 16:58:07 -0400 (Thu, 17 Oct 2024) EllapsedTime: 28.0 seconds RetCode: 0 Status: OK PackageFile: RefPlus_1.74.0.tgz PackageFileSize: 882.5 KiB