Package: RefPlus Version: 1.74.0 Command: /Library/Frameworks/R.framework/Resources/bin/R CMD check --install=check:RefPlus.install-out.txt --library=/Library/Frameworks/R.framework/Resources/library --no-vignettes --timings RefPlus_1.74.0.tar.gz StartedAt: 2024-06-09 22:31:11 -0400 (Sun, 09 Jun 2024) EndedAt: 2024-06-09 22:32:33 -0400 (Sun, 09 Jun 2024) EllapsedTime: 81.7 seconds RetCode: 0 Status: OK CheckDir: RefPlus.Rcheck Warnings: 0