Package: RefPlus Version: 1.74.0 Command: /home/biocbuild/R/R-beta-2024-04-15_r86425/bin/R CMD build --keep-empty-dirs --no-resave-data RefPlus StartedAt: 2024-05-09 02:54:18 -0000 (Thu, 09 May 2024) EndedAt: 2024-05-09 02:54:56 -0000 (Thu, 09 May 2024) EllapsedTime: 37.0 seconds RetCode: 0 Status: OK PackageFile: RefPlus_1.74.0.tar.gz PackageFileSize: 1.511 MiB