Package: RefPlus Version: 1.74.0 Command: /Library/Frameworks/R.framework/Resources/bin/R CMD build --keep-empty-dirs --no-resave-data RefPlus StartedAt: 2024-10-17 07:23:03 -0400 (Thu, 17 Oct 2024) EndedAt: 2024-10-17 07:23:39 -0400 (Thu, 17 Oct 2024) EllapsedTime: 36.1 seconds RetCode: 0 Status: OK PackageFile: RefPlus_1.74.0.tar.gz PackageFileSize: 1.52 MiB