Package: RedisParam Version: 1.6.0 Command: chmod a+r RedisParam -R && E:\biocbuild\bbs-3.19-bioc\R\bin\R.exe CMD build --keep-empty-dirs --no-resave-data RedisParam StartedAt: 2024-10-16 21:26:45 -0400 (Wed, 16 Oct 2024) EndedAt: 2024-10-16 21:27:16 -0400 (Wed, 16 Oct 2024) EllapsedTime: 31.4 seconds RetCode: 0 Status: OK PackageFile: RedisParam_1.6.0.tar.gz PackageFileSize: 950.6 KiB