Package: RedisParam Version: 1.6.0 Command: chmod a+r RedisParam -R && F:\biocbuild\bbs-3.19-bioc\R\bin\R.exe CMD build --keep-empty-dirs --no-resave-data RedisParam StartedAt: 2024-06-26 21:19:30 -0400 (Wed, 26 Jun 2024) EndedAt: 2024-06-26 21:19:49 -0400 (Wed, 26 Jun 2024) EllapsedTime: 19.1 seconds RetCode: 0 Status: OK PackageFile: RedisParam_1.6.0.tar.gz PackageFileSize: 950.5 KiB