Package: RedisParam Version: 1.6.0 Command: rm -rf RedisParam.buildbin-libdir && mkdir RedisParam.buildbin-libdir && F:\biocbuild\bbs-3.19-bioc\R\bin\R.exe CMD INSTALL --build --library=RedisParam.buildbin-libdir RedisParam_1.6.0.tar.gz StartedAt: 2024-06-27 08:45:54 -0400 (Thu, 27 Jun 2024) EndedAt: 2024-06-27 08:46:05 -0400 (Thu, 27 Jun 2024) EllapsedTime: 10.7 seconds RetCode: 0 Status: OK PackageFile: RedisParam_1.6.0.zip PackageFileSize: 1024 KiB