Package: RedisParam Version: 1.6.0 Command: /Library/Frameworks/R.framework/Resources/bin/R CMD build --keep-empty-dirs --no-resave-data RedisParam StartedAt: 2024-10-17 07:22:53 -0400 (Thu, 17 Oct 2024) EndedAt: 2024-10-17 07:23:03 -0400 (Thu, 17 Oct 2024) EllapsedTime: 10.3 seconds RetCode: 0 Status: OK PackageFile: RedisParam_1.6.0.tar.gz PackageFileSize: 950.5 KiB