Package: RedeR Version: 3.0.0 Command: E:\biocbuild\bbs-3.19-bioc\R\bin\R.exe CMD INSTALL RedeR StartedAt: 2024-10-16 16:08:11 -0400 (Wed, 16 Oct 2024) EndedAt: 2024-10-16 16:08:34 -0400 (Wed, 16 Oct 2024) EllapsedTime: 23.2 seconds RetCode: 0 Status: OK