Package: RedeR Version: 3.0.0 Command: /Library/Frameworks/R.framework/Resources/bin/R CMD check --install=check:RedeR.install-out.txt --library=/Library/Frameworks/R.framework/Resources/library --no-vignettes --timings RedeR_3.0.0.tar.gz StartedAt: 2024-10-18 09:02:38 -0400 (Fri, 18 Oct 2024) EndedAt: 2024-10-18 09:03:22 -0400 (Fri, 18 Oct 2024) EllapsedTime: 43.8 seconds RetCode: 0 Status: OK CheckDir: RedeR.Rcheck Warnings: 0