Package: ReadqPCR Version: 1.50.0 Command: /Library/Frameworks/R.framework/Resources/bin/R CMD INSTALL ReadqPCR StartedAt: 2024-10-16 15:08:14 -0400 (Wed, 16 Oct 2024) EndedAt: 2024-10-16 15:08:35 -0400 (Wed, 16 Oct 2024) EllapsedTime: 20.7 seconds RetCode: 0 Status: OK