Package: ReadqPCR Version: 1.50.0 Command: rm -rf ReadqPCR.buildbin-libdir && mkdir ReadqPCR.buildbin-libdir && /Users/biocbuild/BBS/utils/build-universal.sh ReadqPCR_1.50.0.tar.gz /Library/Frameworks/R.framework/Resources/bin/R ReadqPCR.buildbin-libdir StartedAt: 2024-10-17 16:57:18 -0400 (Thu, 17 Oct 2024) EndedAt: 2024-10-17 16:57:27 -0400 (Thu, 17 Oct 2024) EllapsedTime: 9.5 seconds RetCode: 0 Status: OK PackageFile: ReadqPCR_1.50.0.tgz PackageFileSize: 567.9 KiB