Package: ReadqPCR Version: 1.50.0 Command: rm -rf ReadqPCR.buildbin-libdir && mkdir ReadqPCR.buildbin-libdir && /Users/biocbuild/BBS/utils/build-universal.sh ReadqPCR_1.50.0.tar.gz /Library/Frameworks/R.framework/Resources/bin/R ReadqPCR.buildbin-libdir StartedAt: 2024-06-10 00:34:31 -0400 (Mon, 10 Jun 2024) EndedAt: 2024-06-10 00:34:38 -0400 (Mon, 10 Jun 2024) EllapsedTime: 6.7 seconds RetCode: 0 Status: OK PackageFile: ReadqPCR_1.50.0.tgz PackageFileSize: 566.8 KiB