Package: ReadqPCR Version: 1.50.0 Command: /Library/Frameworks/R.framework/Resources/bin/R CMD INSTALL ReadqPCR StartedAt: 2024-10-16 15:39:08 -0400 (Wed, 16 Oct 2024) EndedAt: 2024-10-16 15:39:17 -0400 (Wed, 16 Oct 2024) EllapsedTime: 9.8 seconds RetCode: 0 Status: OK