Package: ReactomePA Version: 1.48.0 Command: /home/biocbuild/bbs-3.19-bioc/R/bin/R CMD INSTALL ReactomePA StartedAt: 2024-10-16 16:29:03 -0400 (Wed, 16 Oct 2024) EndedAt: 2024-10-16 16:29:24 -0400 (Wed, 16 Oct 2024) EllapsedTime: 21.8 seconds RetCode: 0 Status: OK