Package: ReactomePA Version: 1.48.0 Command: /Library/Frameworks/R.framework/Resources/bin/R CMD check --install=check:ReactomePA.install-out.txt --library=/Library/Frameworks/R.framework/Resources/library --no-vignettes --timings ReactomePA_1.48.0.tar.gz StartedAt: 2024-10-17 11:36:17 -0400 (Thu, 17 Oct 2024) EndedAt: 2024-10-17 11:43:58 -0400 (Thu, 17 Oct 2024) EllapsedTime: 460.8 seconds RetCode: 0 Status: OK CheckDir: ReactomePA.Rcheck Warnings: 0