Package: ReactomePA Version: 1.48.0 Command: /Library/Frameworks/R.framework/Resources/bin/R CMD build --keep-empty-dirs --no-resave-data ReactomePA StartedAt: 2024-10-16 22:28:06 -0400 (Wed, 16 Oct 2024) EndedAt: 2024-10-16 22:29:22 -0400 (Wed, 16 Oct 2024) EllapsedTime: 76.0 seconds RetCode: 0 Status: OK PackageFile: ReactomePA_1.48.0.tar.gz PackageFileSize: 57.25 KiB