Package: ReactomePA Version: 1.48.0 Command: rm -rf ReactomePA.buildbin-libdir && mkdir ReactomePA.buildbin-libdir && /Users/biocbuild/BBS/utils/build-universal.sh ReactomePA_1.48.0.tar.gz /Library/Frameworks/R.framework/Resources/bin/R ReactomePA.buildbin-libdir StartedAt: 2024-06-10 00:34:30 -0400 (Mon, 10 Jun 2024) EndedAt: 2024-06-10 00:35:02 -0400 (Mon, 10 Jun 2024) EllapsedTime: 32.5 seconds RetCode: 0 Status: OK PackageFile: ReactomePA_1.48.0.tgz PackageFileSize: 92.46 KiB