Package: ReactomePA Version: 1.48.0 Command: /home/biocbuild/R/R-beta-2024-04-15_r86425/bin/R CMD build --keep-empty-dirs --no-resave-data ReactomePA StartedAt: 2024-05-09 02:53:17 -0000 (Thu, 09 May 2024) EndedAt: 2024-05-09 02:53:59 -0000 (Thu, 09 May 2024) EllapsedTime: 42.1 seconds RetCode: 0 Status: OK PackageFile: ReactomePA_1.48.0.tar.gz PackageFileSize: 58.58 KiB