Package: ReactomePA Version: 1.48.0 Maintainer: Guangchuang Yu MaintainerEmail: guangchuangyu at gmail.com git_url: https://git.bioconductor.org/packages/ReactomePA git_branch: RELEASE_3_19 git_last_commit: ac50a30 git_last_commit_date: 2024-04-30 10:27:19 -0400 (Tue, 30 Apr 2024)